BEGIN:VCALENDAR
VERSION:2.0
PRODID:-//eventon.com NONSGML v1.0//EN
BEGIN:VEVENT
UID:69e77c201f0ab
DTSTAMP:20260421T133112
DTSTART:20261107T000000Z
DTEND:20270102T235900Z
LOCATION:Risby Estate Near Beverley\,  East Yorkshire
SUMMARY:Risby Estate\, 
DESCRIPTION: Risby Estatecovers 15\, 500 acres of beautiful Yorkshire countryside\,  offering a rich variety of landscapes including valleys\,  rolling land\,  woods\,  banks and covers to keep things interesting. Once home to the largest deer park in Yorkshire\,  Risby was owned by the Ellerker family from the 14th to 18th centuries and even[..]
END:VEVENT
END:VCALENDAR