BEGIN:VCALENDAR
VERSION:2.0
PRODID:-//eventon.com NONSGML v1.0//EN
BEGIN:VEVENT
UID:69e79124d0506
DTSTAMP:20260421T150052
DTSTART:20261211T000000Z
DTEND:20270130T235900Z
LOCATION:Bodorgan Anglesey\,  LL62
SUMMARY:Full Team Let days – The Bodorgan Estate – North Wales
DESCRIPTION: The prestigious Bodorgan Estate on Anglesey has three days traditional driven shoot available.  The Shoot is run over the Estate’s Home Beat on some 4000 acres\,  and has presented some of the best quality driven pheasant from both cover and mature woodland for decades.  We offer 10 guns 125 -[..]
END:VEVENT
END:VCALENDAR