BEGIN:VCALENDAR
VERSION:2.0
PRODID:-//eventon.com NONSGML v1.0//EN
BEGIN:VEVENT
UID:69e76834a0a1b
DTSTAMP:20260421T120612
DTSTART:20261026T000000Z
DTEND:20261026T235900Z
LOCATION:Raynham Shoot NR217EF
SUMMARY:Raynham Shoot
DESCRIPTION: Raynham Hall shoot is 6 miles from Fakenham\,  and covers 7000 acres of scenic traditional Norfolk Countryside. We have nearly 40 named and varied drives\,  from cover crop to woodland\,  of which 6 are chosen for each let day according to weather and wind direction on the day. We have[..]
END:VEVENT
END:VCALENDAR