BEGIN:VCALENDAR
VERSION:2.0
PRODID:-//eventon.com NONSGML v1.0//EN
BEGIN:VEVENT
UID:69e9d59ae54af
DTSTAMP:20260423T081730
DTSTART:20201028T010000Z
DTEND:20201031T235500Z
LOCATION:Back to back shooting trip in Scotland\,  fully catered and includes 3 nights accomodation. (£765) Lauder scotland\,  TD3 6NW
SUMMARY:Back to back shooting trip in Scotland (All inclusive)
DESCRIPTION: DO YOU FANCY AN ALL INCLUSIVE BACK TO BACK SHOOTING TRIP FOR £765 A GUN. ACCOMMODATION AND ALL FOOD INCLUDED. (Based on 8 guns)Scotland can be a pain to get to but for those willing to make the journey to this fantastic shoot just over the border it will be[..]
END:VEVENT
END:VCALENDAR