BEGIN:VCALENDAR
VERSION:2.0
PRODID:-//eventon.com NONSGML v1.0//EN
BEGIN:VEVENT
UID:69e7a2bd679c2
DTSTAMP:20260421T161557
DTSTART:20191212T010000Z
DTEND:20191212T235500Z
LOCATION:Luton Hoo LU1 3TQ
SUMMARY:Luton Hoo Shoot
DESCRIPTION: Luton Hoo shoot is a wonderfully quaint shoot in the heart of the Hertfordshire countryside. Please get in touch to enquire about this shoot!
END:VEVENT
END:VCALENDAR