BEGIN:VCALENDAR
VERSION:2.0
PRODID:-//eventon.com NONSGML v1.0//EN
BEGIN:VEVENT
UID:69ece7cba3755
DTSTAMP:20260425T161155
DTSTART:20240824T010000Z
DTEND:20240824T235500Z
LOCATION:
SUMMARY:Yorkshire field sports sim days
DESCRIPTION: Hi Folks\, We have a few pegs left on our &nbsp;sim day on the 24th August&nbsp;We are based in the beautiful rolling countryside of the North Yorkshire moors nr Whitby\, Our package includes Full English Breakfast at the Ellerby Country inn\, Elevenses after the second drive and a 2 Course meal back at[..]
END:VEVENT
END:VCALENDAR